BEGIN:VCALENDAR
VERSION:2.0
PRODID:-//Lafayette Corvette Club - ECPv6.15.20//NONSGML v1.0//EN
CALSCALE:GREGORIAN
METHOD:PUBLISH
X-ORIGINAL-URL:https://lafayettecorvetteclub.com
X-WR-CALDESC:Events for Lafayette Corvette Club
REFRESH-INTERVAL;VALUE=DURATION:PT1H
X-Robots-Tag:noindex
X-PUBLISHED-TTL:PT1H
BEGIN:VTIMEZONE
TZID:America/New_York
BEGIN:DAYLIGHT
TZOFFSETFROM:-0500
TZOFFSETTO:-0400
TZNAME:EDT
DTSTART:20220313T070000
END:DAYLIGHT
BEGIN:STANDARD
TZOFFSETFROM:-0400
TZOFFSETTO:-0500
TZNAME:EST
DTSTART:20221106T060000
END:STANDARD
BEGIN:DAYLIGHT
TZOFFSETFROM:-0500
TZOFFSETTO:-0400
TZNAME:EDT
DTSTART:20230312T070000
END:DAYLIGHT
BEGIN:STANDARD
TZOFFSETFROM:-0400
TZOFFSETTO:-0500
TZNAME:EST
DTSTART:20231105T060000
END:STANDARD
BEGIN:DAYLIGHT
TZOFFSETFROM:-0500
TZOFFSETTO:-0400
TZNAME:EDT
DTSTART:20240310T070000
END:DAYLIGHT
BEGIN:STANDARD
TZOFFSETFROM:-0400
TZOFFSETTO:-0500
TZNAME:EST
DTSTART:20241103T060000
END:STANDARD
END:VTIMEZONE
BEGIN:VEVENT
DTSTART;TZID=America/New_York:20230324T080000
DTEND;TZID=America/New_York:20230326T180000
DTSTAMP:20260422T183051
CREATED:20230105T223748Z
LAST-MODIFIED:20230105T223859Z
UID:541-1679644800-1679853600@lafayettecorvetteclub.com
SUMMARY:World of Wheels 2023
DESCRIPTION:^click for more information^ \nat the Indianapolis Fairgrounds\nMarch 24 3p-8p\nMarch 25 10a-8p\nMarch 26 10a-6p
URL:https://lafayettecorvetteclub.com/event/world-of-wheels-2023/
LOCATION:Indianapolis Fairgrounds\, 1202 East 38th Street\, Indianapolis\, IN\, 46205\, United States
CATEGORIES:Car Show
END:VEVENT
END:VCALENDAR