BEGIN:VCALENDAR
VERSION:2.0
PRODID:-//Lafayette Corvette Club - ECPv6.15.20//NONSGML v1.0//EN
CALSCALE:GREGORIAN
METHOD:PUBLISH
X-WR-CALNAME:Lafayette Corvette Club
X-ORIGINAL-URL:https://lafayettecorvetteclub.com
X-WR-CALDESC:Events for Lafayette Corvette Club
REFRESH-INTERVAL;VALUE=DURATION:PT1H
X-Robots-Tag:noindex
X-PUBLISHED-TTL:PT1H
BEGIN:VTIMEZONE
TZID:America/New_York
BEGIN:DAYLIGHT
TZOFFSETFROM:-0500
TZOFFSETTO:-0400
TZNAME:EDT
DTSTART:20220313T070000
END:DAYLIGHT
BEGIN:STANDARD
TZOFFSETFROM:-0400
TZOFFSETTO:-0500
TZNAME:EST
DTSTART:20221106T060000
END:STANDARD
BEGIN:DAYLIGHT
TZOFFSETFROM:-0500
TZOFFSETTO:-0400
TZNAME:EDT
DTSTART:20230312T070000
END:DAYLIGHT
BEGIN:STANDARD
TZOFFSETFROM:-0400
TZOFFSETTO:-0500
TZNAME:EST
DTSTART:20231105T060000
END:STANDARD
BEGIN:DAYLIGHT
TZOFFSETFROM:-0500
TZOFFSETTO:-0400
TZNAME:EDT
DTSTART:20240310T070000
END:DAYLIGHT
BEGIN:STANDARD
TZOFFSETFROM:-0400
TZOFFSETTO:-0500
TZNAME:EST
DTSTART:20241103T060000
END:STANDARD
END:VTIMEZONE
BEGIN:VEVENT
DTSTART;TZID=America/New_York:20230708T070000
DTEND;TZID=America/New_York:20230708T200000
DTSTAMP:20260422T104257
CREATED:20230704T185308Z
LAST-MODIFIED:20230704T185308Z
UID:663-1688799600-1688846400@lafayettecorvetteclub.com
SUMMARY:JC Cruisers' 38th Annual Car Show and Cruise
DESCRIPTION:Lots of fun things are happening on July 8 in Rensselaer!
URL:https://lafayettecorvetteclub.com/event/jc-cruisers-38th-annual-car-show-and-cruise/
LOCATION:Brookside Park\, Rensselaer\, IN\, United States
END:VEVENT
BEGIN:VEVENT
DTSTART;TZID=America/New_York:20230708T130000
DTEND;TZID=America/New_York:20230708T180000
DTSTAMP:20260422T104257
CREATED:20230504T230355Z
LAST-MODIFIED:20230504T230355Z
UID:634-1688821200-1688839200@lafayettecorvetteclub.com
SUMMARY:Darlington’s 2nd Annual Semi Truck & Car Show
DESCRIPTION:See flyer below for details!
URL:https://lafayettecorvetteclub.com/event/darlingtons-2nd-annual-semi-truck-car-show/
CATEGORIES:Car Show
END:VEVENT
END:VCALENDAR