BEGIN:VCALENDAR
VERSION:2.0
PRODID:-//Lafayette Corvette Club - ECPv6.15.20//NONSGML v1.0//EN
CALSCALE:GREGORIAN
METHOD:PUBLISH
X-WR-CALNAME:Lafayette Corvette Club
X-ORIGINAL-URL:https://lafayettecorvetteclub.com
X-WR-CALDESC:Events for Lafayette Corvette Club
REFRESH-INTERVAL;VALUE=DURATION:PT1H
X-Robots-Tag:noindex
X-PUBLISHED-TTL:PT1H
BEGIN:VTIMEZONE
TZID:America/New_York
BEGIN:DAYLIGHT
TZOFFSETFROM:-0500
TZOFFSETTO:-0400
TZNAME:EDT
DTSTART:20230312T070000
END:DAYLIGHT
BEGIN:STANDARD
TZOFFSETFROM:-0400
TZOFFSETTO:-0500
TZNAME:EST
DTSTART:20231105T060000
END:STANDARD
BEGIN:DAYLIGHT
TZOFFSETFROM:-0500
TZOFFSETTO:-0400
TZNAME:EDT
DTSTART:20240310T070000
END:DAYLIGHT
BEGIN:STANDARD
TZOFFSETFROM:-0400
TZOFFSETTO:-0500
TZNAME:EST
DTSTART:20241103T060000
END:STANDARD
BEGIN:DAYLIGHT
TZOFFSETFROM:-0500
TZOFFSETTO:-0400
TZNAME:EDT
DTSTART:20250309T070000
END:DAYLIGHT
BEGIN:STANDARD
TZOFFSETFROM:-0400
TZOFFSETTO:-0500
TZNAME:EST
DTSTART:20251102T060000
END:STANDARD
END:VTIMEZONE
BEGIN:VEVENT
DTSTART;TZID=America/New_York:20240427T090000
DTEND;TZID=America/New_York:20240427T140000
DTSTAMP:20260421T173510
CREATED:20240222T191816Z
LAST-MODIFIED:20240222T191816Z
UID:771-1714208400-1714226400@lafayettecorvetteclub.com
SUMMARY:First Annual Dave Moreland Lakeside Car Show
DESCRIPTION:10625 E. Seelyville Ave. \nBrazil\, IN
URL:https://lafayettecorvetteclub.com/event/first-annual-dave-moreland-lakeside-car-show/
ATTACH;FMTTYPE=image/jpeg:https://lafayettecorvetteclub.com/wp-content/uploads/2024/02/IMG_6243.jpeg
END:VEVENT
END:VCALENDAR