BEGIN:VCALENDAR
VERSION:2.0
PRODID:-//Lafayette Corvette Club - ECPv6.15.20//NONSGML v1.0//EN
CALSCALE:GREGORIAN
METHOD:PUBLISH
X-ORIGINAL-URL:https://lafayettecorvetteclub.com
X-WR-CALDESC:Events for Lafayette Corvette Club
REFRESH-INTERVAL;VALUE=DURATION:PT1H
X-Robots-Tag:noindex
X-PUBLISHED-TTL:PT1H
BEGIN:VTIMEZONE
TZID:America/New_York
BEGIN:DAYLIGHT
TZOFFSETFROM:-0500
TZOFFSETTO:-0400
TZNAME:EDT
DTSTART:20230312T070000
END:DAYLIGHT
BEGIN:STANDARD
TZOFFSETFROM:-0400
TZOFFSETTO:-0500
TZNAME:EST
DTSTART:20231105T060000
END:STANDARD
BEGIN:DAYLIGHT
TZOFFSETFROM:-0500
TZOFFSETTO:-0400
TZNAME:EDT
DTSTART:20240310T070000
END:DAYLIGHT
BEGIN:STANDARD
TZOFFSETFROM:-0400
TZOFFSETTO:-0500
TZNAME:EST
DTSTART:20241103T060000
END:STANDARD
BEGIN:DAYLIGHT
TZOFFSETFROM:-0500
TZOFFSETTO:-0400
TZNAME:EDT
DTSTART:20250309T070000
END:DAYLIGHT
BEGIN:STANDARD
TZOFFSETFROM:-0400
TZOFFSETTO:-0500
TZNAME:EST
DTSTART:20251102T060000
END:STANDARD
END:VTIMEZONE
BEGIN:VEVENT
DTSTART;TZID=America/New_York:20240629T090000
DTEND;TZID=America/New_York:20240629T150000
DTSTAMP:20260421T121720
CREATED:20240404T171509Z
LAST-MODIFIED:20240404T171509Z
UID:873-1719651600-1719673200@lafayettecorvetteclub.com
SUMMARY:Haynes Apperson Automotive Festival
DESCRIPTION:Foster Park \nKokomo\, IN
URL:https://lafayettecorvetteclub.com/event/haynes-apperson-automotive-festival/
ATTACH;FMTTYPE=image/jpeg:https://lafayettecorvetteclub.com/wp-content/uploads/2024/04/IMG_6299.jpg
END:VEVENT
BEGIN:VEVENT
DTSTART;TZID=America/New_York:20240629T100000
DTEND;TZID=America/New_York:20240629T170000
DTSTAMP:20260421T121720
CREATED:20240619T132849Z
LAST-MODIFIED:20240619T132849Z
UID:1009-1719655200-1719680400@lafayettecorvetteclub.com
SUMMARY:Car Show by a Corn Field
DESCRIPTION:Crossroads Christian Church \n6435 SR 43 North \nWest Lafayette\, IN
URL:https://lafayettecorvetteclub.com/event/car-show-by-a-corn-field/
ATTACH;FMTTYPE=application/pdf:https://lafayettecorvetteclub.com/wp-content/uploads/2024/06/NEW-full-flyer.pdf
END:VEVENT
BEGIN:VEVENT
DTSTART;TZID=America/New_York:20240629T130000
DTEND;TZID=America/New_York:20240629T160000
DTSTAMP:20260421T121720
CREATED:20240612T130957Z
LAST-MODIFIED:20240612T130957Z
UID:969-1719666000-1719676800@lafayettecorvetteclub.com
SUMMARY:Car Show/Ice Cream Social
DESCRIPTION:Autumn Trace Senior Communities \n1287 E. Main St. \nAttica\, IN
URL:https://lafayettecorvetteclub.com/event/car-show-ice-cream-social/
ATTACH;FMTTYPE=image/jpeg:https://lafayettecorvetteclub.com/wp-content/uploads/2024/06/IMG_1017.jpg
END:VEVENT
END:VCALENDAR