BEGIN:VCALENDAR
VERSION:2.0
PRODID:-//Lafayette Corvette Club - ECPv6.15.20//NONSGML v1.0//EN
CALSCALE:GREGORIAN
METHOD:PUBLISH
X-WR-CALNAME:Lafayette Corvette Club
X-ORIGINAL-URL:https://lafayettecorvetteclub.com
X-WR-CALDESC:Events for Lafayette Corvette Club
REFRESH-INTERVAL;VALUE=DURATION:PT1H
X-Robots-Tag:noindex
X-PUBLISHED-TTL:PT1H
BEGIN:VTIMEZONE
TZID:America/New_York
BEGIN:DAYLIGHT
TZOFFSETFROM:-0500
TZOFFSETTO:-0400
TZNAME:EDT
DTSTART:20210314T070000
END:DAYLIGHT
BEGIN:STANDARD
TZOFFSETFROM:-0400
TZOFFSETTO:-0500
TZNAME:EST
DTSTART:20211107T060000
END:STANDARD
BEGIN:DAYLIGHT
TZOFFSETFROM:-0500
TZOFFSETTO:-0400
TZNAME:EDT
DTSTART:20220313T070000
END:DAYLIGHT
BEGIN:STANDARD
TZOFFSETFROM:-0400
TZOFFSETTO:-0500
TZNAME:EST
DTSTART:20221106T060000
END:STANDARD
BEGIN:DAYLIGHT
TZOFFSETFROM:-0500
TZOFFSETTO:-0400
TZNAME:EDT
DTSTART:20230312T070000
END:DAYLIGHT
BEGIN:STANDARD
TZOFFSETFROM:-0400
TZOFFSETTO:-0500
TZNAME:EST
DTSTART:20231105T060000
END:STANDARD
END:VTIMEZONE
BEGIN:VEVENT
DTSTART;TZID=America/New_York:20220430T090000
DTEND;TZID=America/New_York:20220430T150000
DTSTAMP:20260419T102027
CREATED:20220328T154104Z
LAST-MODIFIED:20220328T154104Z
UID:313-1651309200-1651330800@lafayettecorvetteclub.com
SUMMARY:Welcome Back Car Show.
DESCRIPTION:Mellott\, IN
URL:https://lafayettecorvetteclub.com/event/welcome-back-car-show/
ATTACH;FMTTYPE=image/jpeg:https://lafayettecorvetteclub.com/wp-content/uploads/2022/03/IMG_0898.jpg
END:VEVENT
BEGIN:VEVENT
DTSTART;TZID=America/New_York:20220428T080000
DTEND;TZID=America/New_York:20220430T170000
DTSTAMP:20260419T102027
CREATED:20211231T164753Z
LAST-MODIFIED:20211231T164816Z
UID:170-1651132800-1651338000@lafayettecorvetteclub.com
SUMMARY:2022 Michelin NCM Bash
DESCRIPTION:Kickoff of the NCM onsite event season at the National Corvette Museum in Bowling Green\, KY! \nReturning activities include a seminars from all of your favorite Corvette Celebrities\, classroom sessions by GM certified Corvette Technician Paul Koerner\, enjoy guided road tours through the beautiful Kentucky countryside\, two celebrity choice car shows\, a celebrity autograph session\, auctions\, book signings\, and the Ladies’ Oasis. \nJoin us at the NCM Motorsports Park for touring laps and Corvette Experiences or feel free to go over and watch other participants as they take to the track to learn what their cars can do
URL:https://lafayettecorvetteclub.com/event/2022-michelin-ncm-bash/
LOCATION:National Corvette Museum\, 350 Corvette Dr\, Bowling Green\, KY\, 42101\, United States
END:VEVENT
BEGIN:VEVENT
DTSTART;TZID=America/New_York:20220424T080000
DTEND;TZID=America/New_York:20220424T170000
DTSTAMP:20260419T102027
CREATED:20220413T165518Z
LAST-MODIFIED:20220413T165518Z
UID:337-1650787200-1650819600@lafayettecorvetteclub.com
SUMMARY:Mansfield Village Mushroom Festival Car Show
DESCRIPTION:Mansfield\, IN
URL:https://lafayettecorvetteclub.com/event/mansfield-village-mushroom-festival-car-show/
ATTACH;FMTTYPE=image/jpeg:https://lafayettecorvetteclub.com/wp-content/uploads/2022/04/IMG_0902.jpg
END:VEVENT
BEGIN:VEVENT
DTSTART;TZID=America/New_York:20220423T073000
DTEND;TZID=America/New_York:20220424T170000
DTSTAMP:20260419T102027
CREATED:20220211T185311Z
LAST-MODIFIED:20220405T154843Z
UID:235-1650699000-1650819600@lafayettecorvetteclub.com
SUMMARY:ICE AutoCross (Grissom AFB)
DESCRIPTION:Indiana Corvette Enthusiast AutoCross at Grissom AFB. \nGet entry form from NCCC regional web site (see attached link).
URL:https://lafayettecorvetteclub.com/event/ice-autocross-grissom-afb/
ATTACH;FMTTYPE=application/pdf:https://lafayettecorvetteclub.com/wp-content/uploads/2022/02/IN-609_ICE_Flyer_April_2022-1.pdf
END:VEVENT
BEGIN:VEVENT
DTSTART;TZID=America/New_York:20220409T110000
DTEND;TZID=America/New_York:20220409T150000
DTSTAMP:20260419T102027
CREATED:20220328T154249Z
LAST-MODIFIED:20220328T154249Z
UID:316-1649502000-1649516400@lafayettecorvetteclub.com
SUMMARY:Wheels for Winston.
DESCRIPTION:New Whiteland\, IN
URL:https://lafayettecorvetteclub.com/event/wheels-for-winston/
ATTACH;FMTTYPE=image/jpeg:https://lafayettecorvetteclub.com/wp-content/uploads/2022/03/IMG_0899.jpg
END:VEVENT
BEGIN:VEVENT
DTSTART;TZID=America/New_York:20220407T190000
DTEND;TZID=America/New_York:20220407T200000
DTSTAMP:20260419T102027
CREATED:20220304T153833Z
LAST-MODIFIED:20220304T154253Z
UID:277-1649358000-1649361600@lafayettecorvetteclub.com
SUMMARY:Monthly LCC Meeting
DESCRIPTION:Tippecanoe 4H Fairgrounds
URL:https://lafayettecorvetteclub.com/event/monthly-lcc-meeting/
END:VEVENT
BEGIN:VEVENT
DTSTART;TZID=America/New_York:20220402T100000
DTEND;TZID=America/New_York:20220402T170000
DTSTAMP:20260419T102027
CREATED:20220221T210615Z
LAST-MODIFIED:20220221T210615Z
UID:252-1648893600-1648918800@lafayettecorvetteclub.com
SUMMARY:Revitalizing Reynolds
DESCRIPTION:Early Spring Dust Off! \n1st annual. \nReynolds Grade School.
URL:https://lafayettecorvetteclub.com/event/revitalizing-reynolds/
ATTACH;FMTTYPE=image/jpeg:https://lafayettecorvetteclub.com/wp-content/uploads/2022/02/IMG_0887.jpg
END:VEVENT
BEGIN:VEVENT
DTSTART;TZID=America/New_York:20220326T090000
DTEND;TZID=America/New_York:20220326T140000
DTSTAMP:20260419T102027
CREATED:20220315T132439Z
LAST-MODIFIED:20220315T132439Z
UID:300-1648285200-1648303200@lafayettecorvetteclub.com
SUMMARY:Cruising the Living Alley
DESCRIPTION:22 West Main St. Greenfield\, IN
URL:https://lafayettecorvetteclub.com/event/cruising-the-living-alley/
ATTACH;FMTTYPE=image/jpeg:https://lafayettecorvetteclub.com/wp-content/uploads/2022/03/IMG_0892.jpg
END:VEVENT
BEGIN:VEVENT
DTSTART;VALUE=DATE:20220208
DTEND;VALUE=DATE:20220223
DTSTAMP:20260419T102027
CREATED:20220103T140227Z
LAST-MODIFIED:20220105T153021Z
UID:178-1644282000-1645491599@lafayettecorvetteclub.com
SUMMARY:Chicago Auto Show
DESCRIPTION:https://g.page/mccormickplace?share
URL:https://lafayettecorvetteclub.com/event/chicago-auto-show/
END:VEVENT
END:VCALENDAR