BEGIN:VCALENDAR
VERSION:2.0
PRODID:-//Lafayette Corvette Club - ECPv6.15.20//NONSGML v1.0//EN
CALSCALE:GREGORIAN
METHOD:PUBLISH
X-ORIGINAL-URL:https://lafayettecorvetteclub.com
X-WR-CALDESC:Events for Lafayette Corvette Club
REFRESH-INTERVAL;VALUE=DURATION:PT1H
X-Robots-Tag:noindex
X-PUBLISHED-TTL:PT1H
BEGIN:VTIMEZONE
TZID:America/New_York
BEGIN:DAYLIGHT
TZOFFSETFROM:-0500
TZOFFSETTO:-0400
TZNAME:EDT
DTSTART:20230312T070000
END:DAYLIGHT
BEGIN:STANDARD
TZOFFSETFROM:-0400
TZOFFSETTO:-0500
TZNAME:EST
DTSTART:20231105T060000
END:STANDARD
BEGIN:DAYLIGHT
TZOFFSETFROM:-0500
TZOFFSETTO:-0400
TZNAME:EDT
DTSTART:20240310T070000
END:DAYLIGHT
BEGIN:STANDARD
TZOFFSETFROM:-0400
TZOFFSETTO:-0500
TZNAME:EST
DTSTART:20241103T060000
END:STANDARD
BEGIN:DAYLIGHT
TZOFFSETFROM:-0500
TZOFFSETTO:-0400
TZNAME:EDT
DTSTART:20250309T070000
END:DAYLIGHT
BEGIN:STANDARD
TZOFFSETFROM:-0400
TZOFFSETTO:-0500
TZNAME:EST
DTSTART:20251102T060000
END:STANDARD
END:VTIMEZONE
BEGIN:VEVENT
DTSTART;TZID=America/New_York:20240927T080000
DTEND;TZID=America/New_York:20240929T170000
DTSTAMP:20260422T183553
CREATED:20240225T182356Z
LAST-MODIFIED:20240225T182356Z
UID:784-1727424000-1727629200@lafayettecorvetteclub.com
SUMMARY:James Dean Run
DESCRIPTION:Play Acres Park
URL:https://lafayettecorvetteclub.com/event/james-dean-run/
ATTACH;FMTTYPE=image/jpeg:https://lafayettecorvetteclub.com/wp-content/uploads/2024/02/IMG_6247.jpg
END:VEVENT
BEGIN:VEVENT
DTSTART;TZID=America/New_York:20240928T110000
DTEND;TZID=America/New_York:20240928T150000
DTSTAMP:20260422T183553
CREATED:20240424T171948Z
LAST-MODIFIED:20240424T172740Z
UID:906-1727521200-1727535600@lafayettecorvetteclub.com
SUMMARY:Depot Day Cruise - In
DESCRIPTION:Flora Depot Museum \n104 W. Main St. \nFlora\, IN
URL:https://lafayettecorvetteclub.com/event/depot-day-cruise-in/
ATTACH;FMTTYPE=image/jpeg:https://lafayettecorvetteclub.com/wp-content/uploads/2024/04/Resized_Resized_20240424_102833.jpeg
END:VEVENT
BEGIN:VEVENT
DTSTART;TZID=America/New_York:20241006T100000
DTEND;TZID=America/New_York:20241006T170000
DTSTAMP:20260422T183553
CREATED:20240503T180839Z
LAST-MODIFIED:20240503T180839Z
UID:926-1728208800-1728234000@lafayettecorvetteclub.com
SUMMARY:Circus Car & Bike Show
DESCRIPTION:3076 E. Circus Ln \nPeru\, IN
URL:https://lafayettecorvetteclub.com/event/circus-car-bike-show/
ATTACH;FMTTYPE=image/jpeg:https://lafayettecorvetteclub.com/wp-content/uploads/2024/05/IMG_1002.jpg
END:VEVENT
END:VCALENDAR