BEGIN:VCALENDAR
VERSION:2.0
PRODID:-//Lafayette Corvette Club - ECPv6.15.20//NONSGML v1.0//EN
CALSCALE:GREGORIAN
METHOD:PUBLISH
X-WR-CALNAME:Lafayette Corvette Club
X-ORIGINAL-URL:https://lafayettecorvetteclub.com
X-WR-CALDESC:Events for Lafayette Corvette Club
REFRESH-INTERVAL;VALUE=DURATION:PT1H
X-Robots-Tag:noindex
X-PUBLISHED-TTL:PT1H
BEGIN:VTIMEZONE
TZID:America/New_York
BEGIN:DAYLIGHT
TZOFFSETFROM:-0500
TZOFFSETTO:-0400
TZNAME:EDT
DTSTART:20220313T070000
END:DAYLIGHT
BEGIN:STANDARD
TZOFFSETFROM:-0400
TZOFFSETTO:-0500
TZNAME:EST
DTSTART:20221106T060000
END:STANDARD
BEGIN:DAYLIGHT
TZOFFSETFROM:-0500
TZOFFSETTO:-0400
TZNAME:EDT
DTSTART:20230312T070000
END:DAYLIGHT
BEGIN:STANDARD
TZOFFSETFROM:-0400
TZOFFSETTO:-0500
TZNAME:EST
DTSTART:20231105T060000
END:STANDARD
BEGIN:DAYLIGHT
TZOFFSETFROM:-0500
TZOFFSETTO:-0400
TZNAME:EDT
DTSTART:20240310T070000
END:DAYLIGHT
BEGIN:STANDARD
TZOFFSETFROM:-0400
TZOFFSETTO:-0500
TZNAME:EST
DTSTART:20241103T060000
END:STANDARD
END:VTIMEZONE
BEGIN:VEVENT
DTSTART;TZID=America/New_York:20230427T100000
DTEND;TZID=America/New_York:20230429T170000
DTSTAMP:20260422T143930
CREATED:20230406T225648Z
LAST-MODIFIED:20230406T225648Z
UID:590-1682589600-1682787600@lafayettecorvetteclub.com
SUMMARY:26th Annual Michelin NCM Bash
DESCRIPTION:click here for info
URL:https://lafayettecorvetteclub.com/event/26th-annual-michelin-ncm-bash/
LOCATION:Bowling Green\, KY\, Bowling Green\, KY\, United States
CATEGORIES:Car Show
END:VEVENT
BEGIN:VEVENT
DTSTART;TZID=America/New_York:20230429T073000
DTEND;TZID=America/New_York:20230430T170000
DTSTAMP:20260422T143930
CREATED:20230406T231349Z
LAST-MODIFIED:20230406T231349Z
UID:598-1682753400-1682874000@lafayettecorvetteclub.com
SUMMARY:ICE Ice Capades 14-event Weekend at Grissom
DESCRIPTION:
URL:https://lafayettecorvetteclub.com/event/ice-ice-capades-14-event-weekend-at-grissom/
CATEGORIES:Competition
END:VEVENT
END:VCALENDAR