BEGIN:VCALENDAR
VERSION:2.0
PRODID:-//Lafayette Corvette Club - ECPv6.15.20//NONSGML v1.0//EN
CALSCALE:GREGORIAN
METHOD:PUBLISH
X-WR-CALNAME:Lafayette Corvette Club
X-ORIGINAL-URL:https://lafayettecorvetteclub.com
X-WR-CALDESC:Events for Lafayette Corvette Club
REFRESH-INTERVAL;VALUE=DURATION:PT1H
X-Robots-Tag:noindex
X-PUBLISHED-TTL:PT1H
BEGIN:VTIMEZONE
TZID:America/New_York
BEGIN:DAYLIGHT
TZOFFSETFROM:-0500
TZOFFSETTO:-0400
TZNAME:EDT
DTSTART:20220313T070000
END:DAYLIGHT
BEGIN:STANDARD
TZOFFSETFROM:-0400
TZOFFSETTO:-0500
TZNAME:EST
DTSTART:20221106T060000
END:STANDARD
BEGIN:DAYLIGHT
TZOFFSETFROM:-0500
TZOFFSETTO:-0400
TZNAME:EDT
DTSTART:20230312T070000
END:DAYLIGHT
BEGIN:STANDARD
TZOFFSETFROM:-0400
TZOFFSETTO:-0500
TZNAME:EST
DTSTART:20231105T060000
END:STANDARD
BEGIN:DAYLIGHT
TZOFFSETFROM:-0500
TZOFFSETTO:-0400
TZNAME:EDT
DTSTART:20240310T070000
END:DAYLIGHT
BEGIN:STANDARD
TZOFFSETFROM:-0400
TZOFFSETTO:-0500
TZNAME:EST
DTSTART:20241103T060000
END:STANDARD
END:VTIMEZONE
BEGIN:VEVENT
DTSTART;TZID=America/New_York:20230708T070000
DTEND;TZID=America/New_York:20230708T200000
DTSTAMP:20260422T085349
CREATED:20230704T185308Z
LAST-MODIFIED:20230704T185308Z
UID:663-1688799600-1688846400@lafayettecorvetteclub.com
SUMMARY:JC Cruisers' 38th Annual Car Show and Cruise
DESCRIPTION:Lots of fun things are happening on July 8 in Rensselaer!
URL:https://lafayettecorvetteclub.com/event/jc-cruisers-38th-annual-car-show-and-cruise/
LOCATION:Brookside Park\, Rensselaer\, IN\, United States
END:VEVENT
BEGIN:VEVENT
DTSTART;TZID=America/New_York:20230708T130000
DTEND;TZID=America/New_York:20230708T180000
DTSTAMP:20260422T085349
CREATED:20230504T230355Z
LAST-MODIFIED:20230504T230355Z
UID:634-1688821200-1688839200@lafayettecorvetteclub.com
SUMMARY:Darlington’s 2nd Annual Semi Truck & Car Show
DESCRIPTION:See flyer below for details!
URL:https://lafayettecorvetteclub.com/event/darlingtons-2nd-annual-semi-truck-car-show/
CATEGORIES:Car Show
END:VEVENT
BEGIN:VEVENT
DTSTART;TZID=America/New_York:20230723T070000
DTEND;TZID=America/New_York:20230727T160000
DTSTAMP:20260422T085349
CREATED:20230401T160254Z
LAST-MODIFIED:20230406T212256Z
UID:578-1690095600-1690473600@lafayettecorvetteclub.com
SUMMARY:2023 NCRS French Lick\, Indiana National Convention
DESCRIPTION:** Information for the 2023 NCRS Convention **
URL:https://lafayettecorvetteclub.com/event/2023-ncrs-french-lick-indiana-national-convention/
CATEGORIES:Car Show
END:VEVENT
BEGIN:VEVENT
DTSTART;TZID=America/New_York:20230728T160000
DTEND;TZID=America/New_York:20230729T140000
DTSTAMP:20260422T085349
CREATED:20230719T140634Z
LAST-MODIFIED:20230719T140634Z
UID:683-1690560000-1690639200@lafayettecorvetteclub.com
SUMMARY:Hot Summer Nights Cruise and Car Show
DESCRIPTION:HOT SUMMER NIGHTS CAR SHOW\n 2200 Elmwood Avenue\, Lafayette\, IN 47904\n\nPresented By: Market Square Shopping Center\nDate and Time: Friday\, July 28\, 5-9pm & Saturday\, July 29\, 8-3pm\nPrice: free
URL:https://lafayettecorvetteclub.com/event/hot-summer-nights-cruise-and-car-show/
LOCATION:Market Square Shopping Center\, 2200 Elmwood Ave\, Lafayette\, IN\, 47904\, United States
CATEGORIES:Car Show
END:VEVENT
BEGIN:VEVENT
DTSTART;TZID=America/New_York:20230729T093000
DTEND;TZID=America/New_York:20230729T150000
DTSTAMP:20260422T085349
CREATED:20230424T202030Z
LAST-MODIFIED:20230424T202156Z
UID:602-1690623000-1690642800@lafayettecorvetteclub.com
SUMMARY:All Wheel Car Show for the VA Veterans
DESCRIPTION:Parking Lots C and Z
URL:https://lafayettecorvetteclub.com/event/all-wheel-car-show-for-the-va-veterans/
LOCATION:VA Illini Center\, 1900 E Main St.\, Danville\, IN\, United States
CATEGORIES:Car Show
END:VEVENT
END:VCALENDAR