BEGIN:VCALENDAR
VERSION:2.0
PRODID:-//Lafayette Corvette Club - ECPv6.15.20//NONSGML v1.0//EN
CALSCALE:GREGORIAN
METHOD:PUBLISH
X-WR-CALNAME:Lafayette Corvette Club
X-ORIGINAL-URL:https://lafayettecorvetteclub.com
X-WR-CALDESC:Events for Lafayette Corvette Club
REFRESH-INTERVAL;VALUE=DURATION:PT1H
X-Robots-Tag:noindex
X-PUBLISHED-TTL:PT1H
BEGIN:VTIMEZONE
TZID:America/New_York
BEGIN:DAYLIGHT
TZOFFSETFROM:-0500
TZOFFSETTO:-0400
TZNAME:EDT
DTSTART:20230312T070000
END:DAYLIGHT
BEGIN:STANDARD
TZOFFSETFROM:-0400
TZOFFSETTO:-0500
TZNAME:EST
DTSTART:20231105T060000
END:STANDARD
BEGIN:DAYLIGHT
TZOFFSETFROM:-0500
TZOFFSETTO:-0400
TZNAME:EDT
DTSTART:20240310T070000
END:DAYLIGHT
BEGIN:STANDARD
TZOFFSETFROM:-0400
TZOFFSETTO:-0500
TZNAME:EST
DTSTART:20241103T060000
END:STANDARD
BEGIN:DAYLIGHT
TZOFFSETFROM:-0500
TZOFFSETTO:-0400
TZNAME:EDT
DTSTART:20250309T070000
END:DAYLIGHT
BEGIN:STANDARD
TZOFFSETFROM:-0400
TZOFFSETTO:-0500
TZNAME:EST
DTSTART:20251102T060000
END:STANDARD
END:VTIMEZONE
BEGIN:VEVENT
DTSTART;TZID=America/New_York:20240511T080000
DTEND;TZID=America/New_York:20240511T150000
DTSTAMP:20260421T134156
CREATED:20240503T175954Z
LAST-MODIFIED:20240503T175954Z
UID:917-1715414400-1715439600@lafayettecorvetteclub.com
SUMMARY:Spring Fling
DESCRIPTION:Highland Park \n900 W. Defenbaugh\, \nKokomo\, IN
URL:https://lafayettecorvetteclub.com/event/spring-fling/
ATTACH;FMTTYPE=image/jpeg:https://lafayettecorvetteclub.com/wp-content/uploads/2024/05/IMG_6246.jpg
END:VEVENT
BEGIN:VEVENT
DTSTART;TZID=America/New_York:20240511T090000
DTEND;TZID=America/New_York:20240511T170000
DTSTAMP:20260421T134156
CREATED:20240404T171111Z
LAST-MODIFIED:20240404T171111Z
UID:867-1715418000-1715446800@lafayettecorvetteclub.com
SUMMARY:Winamac American Legion Car Show
DESCRIPTION:American Legion Post 71. \nWinamac\, IN
URL:https://lafayettecorvetteclub.com/event/winamac-american-legion-car-show/
ATTACH;FMTTYPE=image/jpeg:https://lafayettecorvetteclub.com/wp-content/uploads/2024/04/IMG_6297.jpg
END:VEVENT
BEGIN:VEVENT
DTSTART;TZID=America/New_York:20240518T100000
DTEND;TZID=America/New_York:20240518T150000
DTSTAMP:20260421T134156
CREATED:20240514T171259Z
LAST-MODIFIED:20240514T171259Z
UID:938-1716026400-1716044400@lafayettecorvetteclub.com
SUMMARY:All Wheel Car Show
DESCRIPTION:VA Illini Center \n1901 E. Main St. \nDanville\, IL
URL:https://lafayettecorvetteclub.com/event/all-wheel-car-show/
ATTACH;FMTTYPE=image/jpeg:https://lafayettecorvetteclub.com/wp-content/uploads/2024/05/RenderedImage.jpeg
END:VEVENT
BEGIN:VEVENT
DTSTART;TZID=America/New_York:20240518T110000
DTEND;TZID=America/New_York:20240518T150000
DTSTAMP:20260421T134156
CREATED:20240404T171843Z
LAST-MODIFIED:20240404T171919Z
UID:876-1716030000-1716044400@lafayettecorvetteclub.com
SUMMARY:2024 Cruise-in for Charity
DESCRIPTION:9 Irish Brothers \n3520 SR 38 E. \nLafayette\, IN
URL:https://lafayettecorvetteclub.com/event/2024-cruise-in-for-charity/
ATTACH;FMTTYPE=application/pdf:https://lafayettecorvetteclub.com/wp-content/uploads/2024/04/2024-LEC-Cruise-In-for-charity.pdf
END:VEVENT
BEGIN:VEVENT
DTSTART;TZID=America/New_York:20240518T130000
DTEND;TZID=America/New_York:20240518T170000
DTSTAMP:20260421T134156
CREATED:20240402T172004Z
LAST-MODIFIED:20240402T172004Z
UID:846-1716037200-1716051600@lafayettecorvetteclub.com
SUMMARY:Colton Asher Car Show/Benefit
DESCRIPTION:Grace Fishers Church \n12450 Olio Rd. \nFishers\, IN
URL:https://lafayettecorvetteclub.com/event/colton-asher-car-show-benefit/
ATTACH;FMTTYPE=image/jpeg:https://lafayettecorvetteclub.com/wp-content/uploads/2024/04/IMG_1004.jpg
END:VEVENT
BEGIN:VEVENT
DTSTART;TZID=America/New_York:20240526T120000
DTEND;TZID=America/New_York:20240526T150000
DTSTAMP:20260421T134156
CREATED:20240402T172300Z
LAST-MODIFIED:20240402T172300Z
UID:849-1716724800-1716735600@lafayettecorvetteclub.com
SUMMARY:Warsaw Breakfast Optimist Club Car Show
DESCRIPTION:Courthouse Square \nWarsaw\, IN
URL:https://lafayettecorvetteclub.com/event/warsaw-breakfast-optimist-club-car-show/
ATTACH;FMTTYPE=image/jpeg:https://lafayettecorvetteclub.com/wp-content/uploads/2024/04/IMG_1006.jpg
END:VEVENT
END:VCALENDAR